BEGIN:VCALENDAR
VERSION:2.0
PRODID:-//ONE DOOR CLOSES: KOREY&#039;S COURAGE - ECPv6.15.20//NONSGML v1.0//EN
CALSCALE:GREGORIAN
METHOD:PUBLISH
X-WR-CALNAME:ONE DOOR CLOSES: KOREY&#039;S COURAGE
X-ORIGINAL-URL:https://ingrassiaproductions.com
X-WR-CALDESC:Events for ONE DOOR CLOSES: KOREY&#039;S COURAGE
REFRESH-INTERVAL;VALUE=DURATION:PT1H
X-Robots-Tag:noindex
X-PUBLISHED-TTL:PT1H
BEGIN:VTIMEZONE
TZID:America/New_York
BEGIN:DAYLIGHT
TZOFFSETFROM:-0500
TZOFFSETTO:-0400
TZNAME:EDT
DTSTART:20230312T070000
END:DAYLIGHT
BEGIN:STANDARD
TZOFFSETFROM:-0400
TZOFFSETTO:-0500
TZNAME:EST
DTSTART:20231105T060000
END:STANDARD
BEGIN:DAYLIGHT
TZOFFSETFROM:-0500
TZOFFSETTO:-0400
TZNAME:EDT
DTSTART:20240310T070000
END:DAYLIGHT
BEGIN:STANDARD
TZOFFSETFROM:-0400
TZOFFSETTO:-0500
TZNAME:EST
DTSTART:20241103T060000
END:STANDARD
BEGIN:DAYLIGHT
TZOFFSETFROM:-0500
TZOFFSETTO:-0400
TZNAME:EDT
DTSTART:20250309T070000
END:DAYLIGHT
BEGIN:STANDARD
TZOFFSETFROM:-0400
TZOFFSETTO:-0500
TZNAME:EST
DTSTART:20251102T060000
END:STANDARD
END:VTIMEZONE
BEGIN:VEVENT
DTSTART;TZID=America/New_York:20240403T090000
DTEND;TZID=America/New_York:20240403T090000
DTSTAMP:20260421T114249
CREATED:20240605T234152Z
LAST-MODIFIED:20240605T234152Z
UID:663-1712134800-1712134800@ingrassiaproductions.com
SUMMARY:Tom Ingrassia
DESCRIPTION:The Motown Jukebox with “Motown Tom” (streams live online at wcuw.org/listen)
URL:https://ingrassiaproductions.com/event/tom-ingrassia-20/
LOCATION:MA
END:VEVENT
BEGIN:VEVENT
DTSTART;TZID=America/New_York:20240410T090000
DTEND;TZID=America/New_York:20240410T090000
DTSTAMP:20260421T114249
CREATED:20240605T234152Z
LAST-MODIFIED:20240605T234152Z
UID:662-1712739600-1712739600@ingrassiaproductions.com
SUMMARY:Tom Ingrassia
DESCRIPTION:The Motown Jukebox with “Motown Tom” (streams live online at wcuw.org/listen)
URL:https://ingrassiaproductions.com/event/tom-ingrassia-19/
LOCATION:MA
END:VEVENT
BEGIN:VEVENT
DTSTART;TZID=America/New_York:20240417T090000
DTEND;TZID=America/New_York:20240417T090000
DTSTAMP:20260421T114249
CREATED:20240605T234152Z
LAST-MODIFIED:20240605T234152Z
UID:661-1713344400-1713344400@ingrassiaproductions.com
SUMMARY:Tom Ingrassia
DESCRIPTION:The Motown Jukebox with “Motown Tom” (streams live online at wcuw.org/listen)
URL:https://ingrassiaproductions.com/event/tom-ingrassia-18/
LOCATION:MA
END:VEVENT
BEGIN:VEVENT
DTSTART;TZID=America/New_York:20240422T080000
DTEND;TZID=America/New_York:20240422T080000
DTSTAMP:20260421T114249
CREATED:20240605T234150Z
LAST-MODIFIED:20240605T234150Z
UID:660-1713772800-1713772800@ingrassiaproductions.com
SUMMARY:Tom Ingrassia
DESCRIPTION:Radio interview in support of “One Door Closes: Korey’s Courage”
URL:https://ingrassiaproductions.com/event/tom-ingrassia-17/
LOCATION:MA
END:VEVENT
BEGIN:VEVENT
DTSTART;TZID=America/New_York:20240424T090000
DTEND;TZID=America/New_York:20240424T090000
DTSTAMP:20260421T114249
CREATED:20240605T234150Z
LAST-MODIFIED:20240605T234150Z
UID:659-1713949200-1713949200@ingrassiaproductions.com
SUMMARY:Tom Ingrassia
DESCRIPTION:The Motown Jukebox with “Motown Tom” (streams live online at wcuw.org/listen)
URL:https://ingrassiaproductions.com/event/tom-ingrassia-16/
LOCATION:MA
END:VEVENT
BEGIN:VEVENT
DTSTART;TZID=America/New_York:20240425T120000
DTEND;TZID=America/New_York:20240425T120000
DTSTAMP:20260421T114249
CREATED:20240605T234150Z
LAST-MODIFIED:20240605T234150Z
UID:658-1714046400-1714046400@ingrassiaproductions.com
SUMMARY:Tom Ingrassia & Jared Chrudimsky
DESCRIPTION:Virtual Screening of the documentary “One Door Closes: Korey’s Courage”
URL:https://ingrassiaproductions.com/event/tom-ingrassia-jared-chrudimsky-12/
LOCATION:MA
END:VEVENT
BEGIN:VEVENT
DTSTART;TZID=America/New_York:20240426T120000
DTEND;TZID=America/New_York:20240426T120000
DTSTAMP:20260421T114249
CREATED:20240605T234150Z
LAST-MODIFIED:20240605T234150Z
UID:657-1714132800-1714132800@ingrassiaproductions.com
SUMMARY:Tom Ingrassia & Jared Chrudimsky
DESCRIPTION:Virtual Screening of the documentary “One Door Closes: Korey’s Courage”
URL:https://ingrassiaproductions.com/event/tom-ingrassia-jared-chrudimsky-11/
LOCATION:MA
END:VEVENT
BEGIN:VEVENT
DTSTART;TZID=America/New_York:20240427T120000
DTEND;TZID=America/New_York:20240427T120000
DTSTAMP:20260421T114249
CREATED:20240605T234150Z
LAST-MODIFIED:20240605T234150Z
UID:656-1714219200-1714219200@ingrassiaproductions.com
SUMMARY:Tom Ingrassia & Jared Chrudimsky
DESCRIPTION:Virtual Screening of the documentary “One Door Closes: Korey’s Courage”
URL:https://ingrassiaproductions.com/event/tom-ingrassia-jared-chrudimsky-10/
LOCATION:MA
END:VEVENT
BEGIN:VEVENT
DTSTART;TZID=America/New_York:20240428T120000
DTEND;TZID=America/New_York:20240428T120000
DTSTAMP:20260421T114249
CREATED:20240605T234137Z
LAST-MODIFIED:20240605T234137Z
UID:655-1714305600-1714305600@ingrassiaproductions.com
SUMMARY:Tom Ingrassia & Jared Chrudimsky
DESCRIPTION:Virtual Screening of the documentary “One Door Closes: Korey’s Courage”
URL:https://ingrassiaproductions.com/event/tom-ingrassia-jared-chrudimsky-9/
LOCATION:MA
END:VEVENT
BEGIN:VEVENT
DTSTART;TZID=America/New_York:20240428T190000
DTEND;TZID=America/New_York:20240428T190000
DTSTAMP:20260421T114249
CREATED:20240605T234137Z
LAST-MODIFIED:20240605T234137Z
UID:654-1714330800-1714330800@ingrassiaproductions.com
SUMMARY:Tom Ingrassia & Jared Chrudimsky
DESCRIPTION:Awards Ceremony–One Door Closes: Korey’s Courage is nominated as Best Feature Documentary
URL:https://ingrassiaproductions.com/event/tom-ingrassia-jared-chrudimsky-8/
LOCATION:MA
END:VEVENT
END:VCALENDAR