BEGIN:VCALENDAR
VERSION:2.0
PRODID:-//ONE DOOR CLOSES: KOREY&#039;S COURAGE - ECPv6.15.20//NONSGML v1.0//EN
CALSCALE:GREGORIAN
METHOD:PUBLISH
X-WR-CALNAME:ONE DOOR CLOSES: KOREY&#039;S COURAGE
X-ORIGINAL-URL:https://ingrassiaproductions.com
X-WR-CALDESC:Events for ONE DOOR CLOSES: KOREY&#039;S COURAGE
REFRESH-INTERVAL;VALUE=DURATION:PT1H
X-Robots-Tag:noindex
X-PUBLISHED-TTL:PT1H
BEGIN:VTIMEZONE
TZID:America/New_York
BEGIN:DAYLIGHT
TZOFFSETFROM:-0500
TZOFFSETTO:-0400
TZNAME:EDT
DTSTART:20220313T070000
END:DAYLIGHT
BEGIN:STANDARD
TZOFFSETFROM:-0400
TZOFFSETTO:-0500
TZNAME:EST
DTSTART:20221106T060000
END:STANDARD
BEGIN:DAYLIGHT
TZOFFSETFROM:-0500
TZOFFSETTO:-0400
TZNAME:EDT
DTSTART:20230312T070000
END:DAYLIGHT
BEGIN:STANDARD
TZOFFSETFROM:-0400
TZOFFSETTO:-0500
TZNAME:EST
DTSTART:20231105T060000
END:STANDARD
BEGIN:DAYLIGHT
TZOFFSETFROM:-0500
TZOFFSETTO:-0400
TZNAME:EDT
DTSTART:20240310T070000
END:DAYLIGHT
BEGIN:STANDARD
TZOFFSETFROM:-0400
TZOFFSETTO:-0500
TZNAME:EST
DTSTART:20241103T060000
END:STANDARD
END:VTIMEZONE
BEGIN:VEVENT
DTSTART;TZID=America/New_York:20230705T090000
DTEND;TZID=America/New_York:20230705T090000
DTSTAMP:20260422T015600
CREATED:20240605T234525Z
LAST-MODIFIED:20240605T234525Z
UID:719-1688547600-1688547600@ingrassiaproductions.com
SUMMARY:Tom Ingrassia
DESCRIPTION:The Motown Jukebox with “Motown Tom”
URL:https://ingrassiaproductions.com/event/tom-ingrassia-67/
LOCATION:MA
END:VEVENT
BEGIN:VEVENT
DTSTART;TZID=America/New_York:20230712T090000
DTEND;TZID=America/New_York:20230712T090000
DTSTAMP:20260422T015600
CREATED:20240605T234525Z
LAST-MODIFIED:20240605T234525Z
UID:718-1689152400-1689152400@ingrassiaproductions.com
SUMMARY:Tom Ingrassia
DESCRIPTION:The Motown Jukebox with “Motown Tom”
URL:https://ingrassiaproductions.com/event/tom-ingrassia-66/
LOCATION:MA
END:VEVENT
BEGIN:VEVENT
DTSTART;TZID=America/New_York:20230712T170000
DTEND;TZID=America/New_York:20230712T170000
DTSTAMP:20260422T015600
CREATED:20240605T234525Z
LAST-MODIFIED:20240605T234525Z
UID:717-1689181200-1689181200@ingrassiaproductions.com
SUMMARY:Tom Ingrassia
DESCRIPTION:Motown & The Civil Rights Movement
URL:https://ingrassiaproductions.com/event/tom-ingrassia-65/
LOCATION:MA
END:VEVENT
BEGIN:VEVENT
DTSTART;TZID=America/New_York:20230719T090000
DTEND;TZID=America/New_York:20230719T090000
DTSTAMP:20260422T015600
CREATED:20240605T234510Z
LAST-MODIFIED:20240605T234510Z
UID:716-1689757200-1689757200@ingrassiaproductions.com
SUMMARY:Tom Ingrassia
DESCRIPTION:The Motown Jukebox with “Motown Tom”
URL:https://ingrassiaproductions.com/event/tom-ingrassia-64/
LOCATION:MA
END:VEVENT
BEGIN:VEVENT
DTSTART;TZID=America/New_York:20230726T090000
DTEND;TZID=America/New_York:20230726T090000
DTSTAMP:20260422T015600
CREATED:20240605T234510Z
LAST-MODIFIED:20240605T234510Z
UID:715-1690362000-1690362000@ingrassiaproductions.com
SUMMARY:Tom Ingrassia
DESCRIPTION:The Motown Jukebox with “Motown Tom”
URL:https://ingrassiaproductions.com/event/tom-ingrassia-63/
LOCATION:MA
END:VEVENT
BEGIN:VEVENT
DTSTART;TZID=America/New_York:20230726T140000
DTEND;TZID=America/New_York:20230726T140000
DTSTAMP:20260422T015600
CREATED:20240605T234510Z
LAST-MODIFIED:20240605T234510Z
UID:714-1690380000-1690380000@ingrassiaproductions.com
SUMMARY:Tom Ingrassia
DESCRIPTION:Afternoon Author Talks–One Door Closes: Overcoming Adversity By Following Your Dreams
URL:https://ingrassiaproductions.com/event/tom-ingrassia-62/
LOCATION:MA
END:VEVENT
END:VCALENDAR