BEGIN:VCALENDAR
VERSION:2.0
PRODID:-//ONE DOOR CLOSES: KOREY&#039;S COURAGE - ECPv6.15.20//NONSGML v1.0//EN
CALSCALE:GREGORIAN
METHOD:PUBLISH
X-ORIGINAL-URL:https://ingrassiaproductions.com
X-WR-CALDESC:Events for ONE DOOR CLOSES: KOREY&#039;S COURAGE
REFRESH-INTERVAL;VALUE=DURATION:PT1H
X-Robots-Tag:noindex
X-PUBLISHED-TTL:PT1H
BEGIN:VTIMEZONE
TZID:America/New_York
BEGIN:DAYLIGHT
TZOFFSETFROM:-0500
TZOFFSETTO:-0400
TZNAME:EDT
DTSTART:20230312T070000
END:DAYLIGHT
BEGIN:STANDARD
TZOFFSETFROM:-0400
TZOFFSETTO:-0500
TZNAME:EST
DTSTART:20231105T060000
END:STANDARD
BEGIN:DAYLIGHT
TZOFFSETFROM:-0500
TZOFFSETTO:-0400
TZNAME:EDT
DTSTART:20240310T070000
END:DAYLIGHT
BEGIN:STANDARD
TZOFFSETFROM:-0400
TZOFFSETTO:-0500
TZNAME:EST
DTSTART:20241103T060000
END:STANDARD
BEGIN:DAYLIGHT
TZOFFSETFROM:-0500
TZOFFSETTO:-0400
TZNAME:EDT
DTSTART:20250309T070000
END:DAYLIGHT
BEGIN:STANDARD
TZOFFSETFROM:-0400
TZOFFSETTO:-0500
TZNAME:EST
DTSTART:20251102T060000
END:STANDARD
END:VTIMEZONE
BEGIN:VEVENT
DTSTART;TZID=America/New_York:20240724T090000
DTEND;TZID=America/New_York:20240724T090000
DTSTAMP:20260421T090220
CREATED:20240605T234051Z
LAST-MODIFIED:20240702T203431Z
UID:633-1721811600-1721811600@ingrassiaproductions.com
SUMMARY:The Motown Jukebox with "Motown Tom"
DESCRIPTION:The Motown Jukebox with “Motown Tom”only on WCUW 91.3FM. (Streams LIVE at Wcuw.org/listen
URL:https://ingrassiaproductions.com/event/tom-ingrassia-2/
LOCATION:WCUW 91.3FM\, wcuw.org/listen\, Worcester\, MA
END:VEVENT
BEGIN:VEVENT
DTSTART;TZID=America/New_York:20240724T180000
DTEND;TZID=America/New_York:20240724T193000
DTSTAMP:20260421T090220
CREATED:20240701T152854Z
LAST-MODIFIED:20240701T152854Z
UID:1361-1721844000-1721849400@ingrassiaproductions.com
SUMMARY:One Door Closes: Korey's Courage
DESCRIPTION:Screening at Shawna Shea Film Festival
URL:https://ingrassiaproductions.com/event/one-door-closes-koreys-courage/
LOCATION:Starlite Entertainment Complex\, Southbridge\, MA
END:VEVENT
END:VCALENDAR